BEGIN:VCALENDAR
VERSION:2.0
PRODID:-//Connecticut Art Trail - ECPv6.15.20//NONSGML v1.0//EN
CALSCALE:GREGORIAN
METHOD:PUBLISH
X-ORIGINAL-URL:https://ctarttrail.org
X-WR-CALDESC:Events for Connecticut Art Trail
REFRESH-INTERVAL;VALUE=DURATION:PT1H
X-Robots-Tag:noindex
X-PUBLISHED-TTL:PT1H
BEGIN:VTIMEZONE
TZID:UTC
BEGIN:STANDARD
TZOFFSETFROM:+0000
TZOFFSETTO:+0000
TZNAME:UTC
DTSTART:20240101T000000
END:STANDARD
END:VTIMEZONE
BEGIN:VTIMEZONE
TZID:America/New_York
BEGIN:DAYLIGHT
TZOFFSETFROM:-0500
TZOFFSETTO:-0400
TZNAME:EDT
DTSTART:20240310T070000
END:DAYLIGHT
BEGIN:STANDARD
TZOFFSETFROM:-0400
TZOFFSETTO:-0500
TZNAME:EST
DTSTART:20241103T060000
END:STANDARD
BEGIN:DAYLIGHT
TZOFFSETFROM:-0500
TZOFFSETTO:-0400
TZNAME:EDT
DTSTART:20250309T070000
END:DAYLIGHT
BEGIN:STANDARD
TZOFFSETFROM:-0400
TZOFFSETTO:-0500
TZNAME:EST
DTSTART:20251102T060000
END:STANDARD
BEGIN:DAYLIGHT
TZOFFSETFROM:-0500
TZOFFSETTO:-0400
TZNAME:EDT
DTSTART:20260308T070000
END:DAYLIGHT
BEGIN:STANDARD
TZOFFSETFROM:-0400
TZOFFSETTO:-0500
TZNAME:EST
DTSTART:20261101T060000
END:STANDARD
END:VTIMEZONE
BEGIN:VEVENT
DTSTART;TZID=UTC:20250220T173000
DTEND;TZID=UTC:20250501T190000
DTSTAMP:20260422T165048
CREATED:20241231T213257Z
LAST-MODIFIED:20241231T213859Z
UID:10001883-1740072600-1746126000@ctarttrail.org
SUMMARY:Hill-Stead Short Course - Impressionism: French Origins\, American Afterlives
DESCRIPTION:REGISTER\nDescription:\nFew chapters in the history of modern art are more loved and revered\, more foundational and debated than the story of French impressionism. The group of painters who initially brought this style of artmaking to world-wide fame was initially small but with each passing generation their supporters and followers have continued to grow. Now\, more than 150 years after the first impressionist exhibition in Paris in 1874\, the scholarship concerning this style of painting is so extensive that it is difficult to summarize. This short course of 6 lectures confronts this daunting situation head on by breaking impressionism down into key artists and themes central to the movement\, focusing specifically on its original practitioners in France and those who later adopted the style in the United States. By analyzing the work of a celebrated French master like Edgar Degas alongside that of his American follower Everett Shinn\, for instance\, or the paintings of Pierre-Auguste Renoir in conjunction with those of William Glackens\, the transatlantic ramifications of impressionism and the enduring power of Hill-Stead’s collection are clarified.\nNo previous course work in art history is required and no background reading is assigned. An informal syllabus of additional reading\, however\, is provided for those who are interested. Each lecture will run about 45 minutes. The sessions will be followed by a Q&A and informal wine reception.\nSchedule (Spring 2025): (Every other Thursday at 5:30PM at Hill-Stead)\n20 Feb 2025 – Manet\, Sloan\, and Critique\n06 Mar 2025 – Renoir\, Glackens\, and Leisure\n20 Mar 2025 – Morisot\, Henri\, and Portraiture\n03 Apr 2025 – Monet\, Hassam\, and Light\n17 Apr 2025 – Degas\, Shinn\, and Spectacle\n01 May 2025 – Cassatt\, Bellows\, and Gender
URL:https://ctarttrail.org/event/hill-stead-short-course-impressionism-french-origins-american-afterlives-2/
CATEGORIES:Adults,Educational,Lectures,Public Programs
ATTACH;FMTTYPE=image/jpeg:https://ctarttrail.org/wp-content/uploads/2024/11/IMG_2334cropped-scaled-W1Bmah.tmp_.jpg
END:VEVENT
BEGIN:VEVENT
DTSTART;TZID=UTC:20250220T173000
DTEND;TZID=UTC:20250501T220000
DTSTAMP:20260422T165048
CREATED:20241101T210342Z
LAST-MODIFIED:20241201T212402Z
UID:10001742-1740072600-1746136800@ctarttrail.org
SUMMARY:Hill-Stead Short Course - Impressionism: French Origins\, American Afterlives
DESCRIPTION:REGISTER\nDescription:\nFew chapters in the history of modern art are more loved and revered\, more foundational and debated than the story of French impressionism. The group of painters who initially brought this style of artmaking to world-wide fame was initially small but with each passing generation their supporters and followers have continued to grow. Now\, more than 150 years after the first impressionist exhibition in Paris in 1874\, the scholarship concerning this style of painting is so extensive that it is difficult to summarize. This short course of 6 lectures confronts this daunting situation head on by breaking impressionism down into key artists and themes central to the movement\, focusing specifically on its original practitioners in France and those who later adopted the style in the United States. By analyzing the work of a celebrated French master like Edgar Degas alongside that of his American follower Everett Shinn\, for instance\, or the paintings of Pierre-Auguste Renoir in conjunction with those of William Glackens\, the transatlantic ramifications of impressionism and the enduring power of Hill-Stead’s collection are clarified.\nNo previous course work in art history is required and no background reading is assigned. An informal syllabus of additional reading\, however\, is provided for those who are interested. Each lecture will run about 45 minutes. The sessions will be followed by a Q&A and informal wine reception.\nSchedule (Spring 2025): (Every other Thursday at 5:30PM at Hill-Stead)\n20 Feb 2025 – Manet\, Sloan\, and Critique\n06 Mar 2025 – Renoir\, Glackens\, and Leisure\n20 Mar 2025 – Morisot\, Henri\, and Portraiture\n03 Apr 2025 – Monet\, Hassam\, and Light\n17 Apr 2025 – Degas\, Shinn\, and Spectacle\n01 May 2025 – Cassatt\, Bellows\, and Gender
URL:https://ctarttrail.org/event/hill-stead-short-course-impressionism-french-origins-american-afterlives/
CATEGORIES:Adults,Educational,Lectures,Public Programs
ATTACH;FMTTYPE=image/jpeg:https://ctarttrail.org/wp-content/uploads/2024/11/IMG_2334cropped-scaled-W1Bmah.tmp_.jpg
END:VEVENT
BEGIN:VEVENT
DTSTART;TZID=UTC:20250305T180000
DTEND;TZID=UTC:20250305T193000
DTSTAMP:20260422T165048
CREATED:20250301T220300Z
LAST-MODIFIED:20250301T220857Z
UID:10002938-1741197600-1741203000@ctarttrail.org
SUMMARY:Conversation with Collector Tony Yurgaitis
DESCRIPTION:REGISTER HERE\nJoin us on Wednesday\, March 5 at 6pm for a conversation with Tony Yurgaitis\, owner of Arethusa Farm in Litchfield\, about his passion for collecting. Tony’s story\, fusing appreciation of art with a passion for farming\, is a familiar one at Hill-Stead. Hear more about honoring this connection with a discussion led by Executive Director\, Dr. Anna Swinbourne.\nFrom Renaissance Madonnas to contemporary paintings\, Picasso ceramics to Murano glass\, and folkloric weathervanes to Danish Flora Danica\, Tony has acquired works of art of all kinds from all around the world. He is a collector who lives with his art\, thoughtfully placing each object within the stunningly beautiful interiors of his home. In these rooms\, he enjoys and shares the collection with his family and friends.\nA parallel endeavor in Tony’s life is the business of sustainable agriculture. At Arethusa\, which he acquired in 1999\, the team is devoted to humane and environmentally responsible practices in pursuit of excellent dairy products\, including their award-winning cheeses and delicious ice cream.\nCocktail reception to follow.\nTickets: $30 members; $35 non-members\nThis lecture was rescheduled from February 27.
URL:https://ctarttrail.org/event/conversation-with-collector-tony-yurgaitis-2/
LOCATION:Hill-Stead Museum\, 35 Mountain Rd\, Farmington\, CT\, United States
CATEGORIES:Adults,Educational
ATTACH;FMTTYPE=image/jpeg:https://ctarttrail.org/wp-content/uploads/2025/01/Photo-Nov-16-2024-6-00-10-PM-scaled-j7wUeq.tmp_.jpg
GEO:41.719622;-72.824691
X-APPLE-STRUCTURED-LOCATION;VALUE=URI;X-ADDRESS=Hill-Stead Museum 35 Mountain Rd Farmington CT United States;X-APPLE-RADIUS=500;X-TITLE=35 Mountain Rd:geo:-72.824691,41.719622
END:VEVENT
BEGIN:VEVENT
DTSTART;TZID=America/New_York:20250306T120000
DTEND;TZID=America/New_York:20250306T130000
DTSTAMP:20260422T165048
CREATED:20250225T160649Z
LAST-MODIFIED:20250225T160649Z
UID:10002685-1741262400-1741266000@ctarttrail.org
SUMMARY:Art in Focus: Stanton Macdonald-Wright\, Color Woodcut
DESCRIPTION:Thursday\, March 6\, 12 noon in-person\, 1 p.m. streaming on The Quick Live\nArt in Focus: Stanton Macdonald-Wright\, “Bright red sun cruelly hot but the wind is of autumn” – Bashō\, ca. 1966-7\, color woodcut\nWarm yourself in the imagined heat of this vibrant woodcut\, part of a portfolio created by Stanton Macdonald-Wright and printer Clifton Karhu using traditional Japanese methods of color woodblock printing. Join Curator of Education Michelle DiMarzo for an informal conversation in the galleries\, or online via The Quick Live. \nImage: Stanton Macdonald-Wright\, “Bright red sun cruelly hot but the wind is of autumn” – Bashō\, ca. 1966-7\, color woodcut. Gift of the Stanton and Jean MacDonald-Wright Estate\, 2023 (2023.13.01f)
URL:https://ctarttrail.org/event/art-in-focus-stanton-macdonald-wright-color-woodcut/
LOCATION:Bellermine Hall – Fairfield University\, 1073 North Benson Rd\, Fairfield\, CT\, 06824\, United States
CATEGORIES:Adults,Educational,Public Programs
ATTACH;FMTTYPE=image/png:https://ctarttrail.org/wp-content/uploads/2025/02/Macdonald-Wright-22Bright-red-sun.22.png
ORGANIZER;CN="Fairfield University Art Museum":MAILTO:scipollaro@fairfield.edu
END:VEVENT
BEGIN:VEVENT
DTSTART;TZID=UTC:20250306T173000
DTEND;TZID=UTC:20250515T190000
DTSTAMP:20260422T165048
CREATED:20241231T213257Z
LAST-MODIFIED:20241231T213859Z
UID:10001884-1741282200-1747335600@ctarttrail.org
SUMMARY:Hill-Stead Short Course - Impressionism: French Origins\, American Afterlives
DESCRIPTION:REGISTER\nDescription:\nFew chapters in the history of modern art are more loved and revered\, more foundational and debated than the story of French impressionism. The group of painters who initially brought this style of artmaking to world-wide fame was initially small but with each passing generation their supporters and followers have continued to grow. Now\, more than 150 years after the first impressionist exhibition in Paris in 1874\, the scholarship concerning this style of painting is so extensive that it is difficult to summarize. This short course of 6 lectures confronts this daunting situation head on by breaking impressionism down into key artists and themes central to the movement\, focusing specifically on its original practitioners in France and those who later adopted the style in the United States. By analyzing the work of a celebrated French master like Edgar Degas alongside that of his American follower Everett Shinn\, for instance\, or the paintings of Pierre-Auguste Renoir in conjunction with those of William Glackens\, the transatlantic ramifications of impressionism and the enduring power of Hill-Stead’s collection are clarified.\nNo previous course work in art history is required and no background reading is assigned. An informal syllabus of additional reading\, however\, is provided for those who are interested. Each lecture will run about 45 minutes. The sessions will be followed by a Q&A and informal wine reception.\nSchedule (Spring 2025): (Every other Thursday at 5:30PM at Hill-Stead)\n20 Feb 2025 – Manet\, Sloan\, and Critique\n06 Mar 2025 – Renoir\, Glackens\, and Leisure\n20 Mar 2025 – Morisot\, Henri\, and Portraiture\n03 Apr 2025 – Monet\, Hassam\, and Light\n17 Apr 2025 – Degas\, Shinn\, and Spectacle\n01 May 2025 – Cassatt\, Bellows\, and Gender
URL:https://ctarttrail.org/event/hill-stead-short-course-impressionism-french-origins-american-afterlives-3/
CATEGORIES:Adults,Educational,Lectures,Public Programs
ATTACH;FMTTYPE=image/jpeg:https://ctarttrail.org/wp-content/uploads/2024/11/IMG_2334cropped-scaled-W1Bmah.tmp_.jpg
END:VEVENT
BEGIN:VEVENT
DTSTART;TZID=America/New_York:20250315T123000
DTEND;TZID=America/New_York:20250315T160000
DTSTAMP:20260422T165048
CREATED:20250225T160531Z
LAST-MODIFIED:20250225T160531Z
UID:10002696-1742041800-1742054400@ctarttrail.org
SUMMARY:Family Day: Earth-Friendly Arts
DESCRIPTION:Join us on Saturday\, March 15 in the Bellarmine Hall\, Museum Classroom for a Family Day inspired by the artwork on view in our exhibition To See this Place: Awakening to Our Common Home! Learn more about the exhibition at fairfield.edu/museum! The first session will begin promptly at 12:30 p.m. and the second at 2:30 p.m.\nPlease note: participants can only sign up for one session. If you cannot attend Family Day\, we request that you cancel your reservation either through Eventbrite or by emailing museum@fairfield.edu. Frequent no-shows will result in the inability to register for additional Family Day programs. Thank you! \nMary Mattingly\, Saltwater\, 2022\, Chromogenic Dye Coupler print\, ed. 1/5. Courtesy of the artist and Robert Mann Gallery.
URL:https://ctarttrail.org/event/family-day-earth-friendly-arts/
LOCATION:Bellermine Hall – Fairfield University\, 1073 North Benson Rd\, Fairfield\, CT\, 06824\, United States
CATEGORIES:Artful Adventures,Children,Educational,Family Programs
ATTACH;FMTTYPE=image/jpeg:https://ctarttrail.org/wp-content/uploads/2025/02/Saltwater.jpg
ORGANIZER;CN="Fairfield University Art Museum":MAILTO:scipollaro@fairfield.edu
END:VEVENT
BEGIN:VEVENT
DTSTART;TZID=UTC:20250320T173000
DTEND;TZID=UTC:20250529T190000
DTSTAMP:20260422T165048
CREATED:20241231T213257Z
LAST-MODIFIED:20241231T213859Z
UID:10001885-1742491800-1748545200@ctarttrail.org
SUMMARY:Hill-Stead Short Course - Impressionism: French Origins\, American Afterlives
DESCRIPTION:REGISTER\nDescription:\nFew chapters in the history of modern art are more loved and revered\, more foundational and debated than the story of French impressionism. The group of painters who initially brought this style of artmaking to world-wide fame was initially small but with each passing generation their supporters and followers have continued to grow. Now\, more than 150 years after the first impressionist exhibition in Paris in 1874\, the scholarship concerning this style of painting is so extensive that it is difficult to summarize. This short course of 6 lectures confronts this daunting situation head on by breaking impressionism down into key artists and themes central to the movement\, focusing specifically on its original practitioners in France and those who later adopted the style in the United States. By analyzing the work of a celebrated French master like Edgar Degas alongside that of his American follower Everett Shinn\, for instance\, or the paintings of Pierre-Auguste Renoir in conjunction with those of William Glackens\, the transatlantic ramifications of impressionism and the enduring power of Hill-Stead’s collection are clarified.\nNo previous course work in art history is required and no background reading is assigned. An informal syllabus of additional reading\, however\, is provided for those who are interested. Each lecture will run about 45 minutes. The sessions will be followed by a Q&A and informal wine reception.\nSchedule (Spring 2025): (Every other Thursday at 5:30PM at Hill-Stead)\n20 Feb 2025 – Manet\, Sloan\, and Critique\n06 Mar 2025 – Renoir\, Glackens\, and Leisure\n20 Mar 2025 – Morisot\, Henri\, and Portraiture\n03 Apr 2025 – Monet\, Hassam\, and Light\n17 Apr 2025 – Degas\, Shinn\, and Spectacle\n01 May 2025 – Cassatt\, Bellows\, and Gender
URL:https://ctarttrail.org/event/hill-stead-short-course-impressionism-french-origins-american-afterlives-4/
CATEGORIES:Adults,Educational,Lectures,Public Programs
ATTACH;FMTTYPE=image/jpeg:https://ctarttrail.org/wp-content/uploads/2024/11/IMG_2334cropped-scaled-W1Bmah.tmp_.jpg
END:VEVENT
END:VCALENDAR