BEGIN:VCALENDAR
VERSION:2.0
PRODID:-//Connecticut Art Trail - ECPv6.15.20//NONSGML v1.0//EN
CALSCALE:GREGORIAN
METHOD:PUBLISH
X-WR-CALNAME:Connecticut Art Trail
X-ORIGINAL-URL:https://ctarttrail.org
X-WR-CALDESC:Events for Connecticut Art Trail
REFRESH-INTERVAL;VALUE=DURATION:PT1H
X-Robots-Tag:noindex
X-PUBLISHED-TTL:PT1H
BEGIN:VTIMEZONE
TZID:UTC
BEGIN:STANDARD
TZOFFSETFROM:+0000
TZOFFSETTO:+0000
TZNAME:UTC
DTSTART:20240101T000000
END:STANDARD
END:VTIMEZONE
BEGIN:VTIMEZONE
TZID:America/New_York
BEGIN:DAYLIGHT
TZOFFSETFROM:-0500
TZOFFSETTO:-0400
TZNAME:EDT
DTSTART:20240310T070000
END:DAYLIGHT
BEGIN:STANDARD
TZOFFSETFROM:-0400
TZOFFSETTO:-0500
TZNAME:EST
DTSTART:20241103T060000
END:STANDARD
BEGIN:DAYLIGHT
TZOFFSETFROM:-0500
TZOFFSETTO:-0400
TZNAME:EDT
DTSTART:20250309T070000
END:DAYLIGHT
BEGIN:STANDARD
TZOFFSETFROM:-0400
TZOFFSETTO:-0500
TZNAME:EST
DTSTART:20251102T060000
END:STANDARD
BEGIN:DAYLIGHT
TZOFFSETFROM:-0500
TZOFFSETTO:-0400
TZNAME:EDT
DTSTART:20260308T070000
END:DAYLIGHT
BEGIN:STANDARD
TZOFFSETFROM:-0400
TZOFFSETTO:-0500
TZNAME:EST
DTSTART:20261101T060000
END:STANDARD
END:VTIMEZONE
BEGIN:VEVENT
DTSTART;TZID=UTC:20250220T173000
DTEND;TZID=UTC:20250501T190000
DTSTAMP:20260422T163950
CREATED:20241231T213257Z
LAST-MODIFIED:20241231T213859Z
UID:10001883-1740072600-1746126000@ctarttrail.org
SUMMARY:Hill-Stead Short Course - Impressionism: French Origins\, American Afterlives
DESCRIPTION:REGISTER\nDescription:\nFew chapters in the history of modern art are more loved and revered\, more foundational and debated than the story of French impressionism. The group of painters who initially brought this style of artmaking to world-wide fame was initially small but with each passing generation their supporters and followers have continued to grow. Now\, more than 150 years after the first impressionist exhibition in Paris in 1874\, the scholarship concerning this style of painting is so extensive that it is difficult to summarize. This short course of 6 lectures confronts this daunting situation head on by breaking impressionism down into key artists and themes central to the movement\, focusing specifically on its original practitioners in France and those who later adopted the style in the United States. By analyzing the work of a celebrated French master like Edgar Degas alongside that of his American follower Everett Shinn\, for instance\, or the paintings of Pierre-Auguste Renoir in conjunction with those of William Glackens\, the transatlantic ramifications of impressionism and the enduring power of Hill-Stead’s collection are clarified.\nNo previous course work in art history is required and no background reading is assigned. An informal syllabus of additional reading\, however\, is provided for those who are interested. Each lecture will run about 45 minutes. The sessions will be followed by a Q&A and informal wine reception.\nSchedule (Spring 2025): (Every other Thursday at 5:30PM at Hill-Stead)\n20 Feb 2025 – Manet\, Sloan\, and Critique\n06 Mar 2025 – Renoir\, Glackens\, and Leisure\n20 Mar 2025 – Morisot\, Henri\, and Portraiture\n03 Apr 2025 – Monet\, Hassam\, and Light\n17 Apr 2025 – Degas\, Shinn\, and Spectacle\n01 May 2025 – Cassatt\, Bellows\, and Gender
URL:https://ctarttrail.org/event/hill-stead-short-course-impressionism-french-origins-american-afterlives-2/
CATEGORIES:Adults,Educational,Lectures,Public Programs
ATTACH;FMTTYPE=image/jpeg:https://ctarttrail.org/wp-content/uploads/2024/11/IMG_2334cropped-scaled-W1Bmah.tmp_.jpg
END:VEVENT
BEGIN:VEVENT
DTSTART;TZID=UTC:20250220T173000
DTEND;TZID=UTC:20250501T220000
DTSTAMP:20260422T163950
CREATED:20241101T210342Z
LAST-MODIFIED:20241201T212402Z
UID:10001742-1740072600-1746136800@ctarttrail.org
SUMMARY:Hill-Stead Short Course - Impressionism: French Origins\, American Afterlives
DESCRIPTION:REGISTER\nDescription:\nFew chapters in the history of modern art are more loved and revered\, more foundational and debated than the story of French impressionism. The group of painters who initially brought this style of artmaking to world-wide fame was initially small but with each passing generation their supporters and followers have continued to grow. Now\, more than 150 years after the first impressionist exhibition in Paris in 1874\, the scholarship concerning this style of painting is so extensive that it is difficult to summarize. This short course of 6 lectures confronts this daunting situation head on by breaking impressionism down into key artists and themes central to the movement\, focusing specifically on its original practitioners in France and those who later adopted the style in the United States. By analyzing the work of a celebrated French master like Edgar Degas alongside that of his American follower Everett Shinn\, for instance\, or the paintings of Pierre-Auguste Renoir in conjunction with those of William Glackens\, the transatlantic ramifications of impressionism and the enduring power of Hill-Stead’s collection are clarified.\nNo previous course work in art history is required and no background reading is assigned. An informal syllabus of additional reading\, however\, is provided for those who are interested. Each lecture will run about 45 minutes. The sessions will be followed by a Q&A and informal wine reception.\nSchedule (Spring 2025): (Every other Thursday at 5:30PM at Hill-Stead)\n20 Feb 2025 – Manet\, Sloan\, and Critique\n06 Mar 2025 – Renoir\, Glackens\, and Leisure\n20 Mar 2025 – Morisot\, Henri\, and Portraiture\n03 Apr 2025 – Monet\, Hassam\, and Light\n17 Apr 2025 – Degas\, Shinn\, and Spectacle\n01 May 2025 – Cassatt\, Bellows\, and Gender
URL:https://ctarttrail.org/event/hill-stead-short-course-impressionism-french-origins-american-afterlives/
CATEGORIES:Adults,Educational,Lectures,Public Programs
ATTACH;FMTTYPE=image/jpeg:https://ctarttrail.org/wp-content/uploads/2024/11/IMG_2334cropped-scaled-W1Bmah.tmp_.jpg
END:VEVENT
BEGIN:VEVENT
DTSTART;TZID=UTC:20250306T173000
DTEND;TZID=UTC:20250515T190000
DTSTAMP:20260422T163950
CREATED:20241231T213257Z
LAST-MODIFIED:20241231T213859Z
UID:10001884-1741282200-1747335600@ctarttrail.org
SUMMARY:Hill-Stead Short Course - Impressionism: French Origins\, American Afterlives
DESCRIPTION:REGISTER\nDescription:\nFew chapters in the history of modern art are more loved and revered\, more foundational and debated than the story of French impressionism. The group of painters who initially brought this style of artmaking to world-wide fame was initially small but with each passing generation their supporters and followers have continued to grow. Now\, more than 150 years after the first impressionist exhibition in Paris in 1874\, the scholarship concerning this style of painting is so extensive that it is difficult to summarize. This short course of 6 lectures confronts this daunting situation head on by breaking impressionism down into key artists and themes central to the movement\, focusing specifically on its original practitioners in France and those who later adopted the style in the United States. By analyzing the work of a celebrated French master like Edgar Degas alongside that of his American follower Everett Shinn\, for instance\, or the paintings of Pierre-Auguste Renoir in conjunction with those of William Glackens\, the transatlantic ramifications of impressionism and the enduring power of Hill-Stead’s collection are clarified.\nNo previous course work in art history is required and no background reading is assigned. An informal syllabus of additional reading\, however\, is provided for those who are interested. Each lecture will run about 45 minutes. The sessions will be followed by a Q&A and informal wine reception.\nSchedule (Spring 2025): (Every other Thursday at 5:30PM at Hill-Stead)\n20 Feb 2025 – Manet\, Sloan\, and Critique\n06 Mar 2025 – Renoir\, Glackens\, and Leisure\n20 Mar 2025 – Morisot\, Henri\, and Portraiture\n03 Apr 2025 – Monet\, Hassam\, and Light\n17 Apr 2025 – Degas\, Shinn\, and Spectacle\n01 May 2025 – Cassatt\, Bellows\, and Gender
URL:https://ctarttrail.org/event/hill-stead-short-course-impressionism-french-origins-american-afterlives-3/
CATEGORIES:Adults,Educational,Lectures,Public Programs
ATTACH;FMTTYPE=image/jpeg:https://ctarttrail.org/wp-content/uploads/2024/11/IMG_2334cropped-scaled-W1Bmah.tmp_.jpg
END:VEVENT
BEGIN:VEVENT
DTSTART;TZID=UTC:20250320T173000
DTEND;TZID=UTC:20250529T190000
DTSTAMP:20260422T163950
CREATED:20241231T213257Z
LAST-MODIFIED:20241231T213859Z
UID:10001885-1742491800-1748545200@ctarttrail.org
SUMMARY:Hill-Stead Short Course - Impressionism: French Origins\, American Afterlives
DESCRIPTION:REGISTER\nDescription:\nFew chapters in the history of modern art are more loved and revered\, more foundational and debated than the story of French impressionism. The group of painters who initially brought this style of artmaking to world-wide fame was initially small but with each passing generation their supporters and followers have continued to grow. Now\, more than 150 years after the first impressionist exhibition in Paris in 1874\, the scholarship concerning this style of painting is so extensive that it is difficult to summarize. This short course of 6 lectures confronts this daunting situation head on by breaking impressionism down into key artists and themes central to the movement\, focusing specifically on its original practitioners in France and those who later adopted the style in the United States. By analyzing the work of a celebrated French master like Edgar Degas alongside that of his American follower Everett Shinn\, for instance\, or the paintings of Pierre-Auguste Renoir in conjunction with those of William Glackens\, the transatlantic ramifications of impressionism and the enduring power of Hill-Stead’s collection are clarified.\nNo previous course work in art history is required and no background reading is assigned. An informal syllabus of additional reading\, however\, is provided for those who are interested. Each lecture will run about 45 minutes. The sessions will be followed by a Q&A and informal wine reception.\nSchedule (Spring 2025): (Every other Thursday at 5:30PM at Hill-Stead)\n20 Feb 2025 – Manet\, Sloan\, and Critique\n06 Mar 2025 – Renoir\, Glackens\, and Leisure\n20 Mar 2025 – Morisot\, Henri\, and Portraiture\n03 Apr 2025 – Monet\, Hassam\, and Light\n17 Apr 2025 – Degas\, Shinn\, and Spectacle\n01 May 2025 – Cassatt\, Bellows\, and Gender
URL:https://ctarttrail.org/event/hill-stead-short-course-impressionism-french-origins-american-afterlives-4/
CATEGORIES:Adults,Educational,Lectures,Public Programs
ATTACH;FMTTYPE=image/jpeg:https://ctarttrail.org/wp-content/uploads/2024/11/IMG_2334cropped-scaled-W1Bmah.tmp_.jpg
END:VEVENT
BEGIN:VEVENT
DTSTART;TZID=UTC:20250403T173000
DTEND;TZID=UTC:20250612T190000
DTSTAMP:20260422T163950
CREATED:20241231T213258Z
LAST-MODIFIED:20241231T213859Z
UID:10001886-1743701400-1749754800@ctarttrail.org
SUMMARY:Hill-Stead Short Course - Impressionism: French Origins\, American Afterlives
DESCRIPTION:REGISTER\nDescription:\nFew chapters in the history of modern art are more loved and revered\, more foundational and debated than the story of French impressionism. The group of painters who initially brought this style of artmaking to world-wide fame was initially small but with each passing generation their supporters and followers have continued to grow. Now\, more than 150 years after the first impressionist exhibition in Paris in 1874\, the scholarship concerning this style of painting is so extensive that it is difficult to summarize. This short course of 6 lectures confronts this daunting situation head on by breaking impressionism down into key artists and themes central to the movement\, focusing specifically on its original practitioners in France and those who later adopted the style in the United States. By analyzing the work of a celebrated French master like Edgar Degas alongside that of his American follower Everett Shinn\, for instance\, or the paintings of Pierre-Auguste Renoir in conjunction with those of William Glackens\, the transatlantic ramifications of impressionism and the enduring power of Hill-Stead’s collection are clarified.\nNo previous course work in art history is required and no background reading is assigned. An informal syllabus of additional reading\, however\, is provided for those who are interested. Each lecture will run about 45 minutes. The sessions will be followed by a Q&A and informal wine reception.\nSchedule (Spring 2025): (Every other Thursday at 5:30PM at Hill-Stead)\n20 Feb 2025 – Manet\, Sloan\, and Critique\n06 Mar 2025 – Renoir\, Glackens\, and Leisure\n20 Mar 2025 – Morisot\, Henri\, and Portraiture\n03 Apr 2025 – Monet\, Hassam\, and Light\n17 Apr 2025 – Degas\, Shinn\, and Spectacle\n01 May 2025 – Cassatt\, Bellows\, and Gender
URL:https://ctarttrail.org/event/hill-stead-short-course-impressionism-french-origins-american-afterlives-5/
CATEGORIES:Adults,Educational,Lectures,Public Programs
ATTACH;FMTTYPE=image/jpeg:https://ctarttrail.org/wp-content/uploads/2024/11/IMG_2334cropped-scaled-W1Bmah.tmp_.jpg
END:VEVENT
BEGIN:VEVENT
DTSTART;TZID=America/New_York:20250410T120000
DTEND;TZID=America/New_York:20250410T130000
DTSTAMP:20260422T163950
CREATED:20250320T211231Z
LAST-MODIFIED:20250320T211231Z
UID:10003098-1744286400-1744290000@ctarttrail.org
SUMMARY:Art in Focus: Diptych: Scenes from the Life of Christ and the Virgin
DESCRIPTION:Art in Focus: Unknown French Artist\, Diptych: Scenes from the Life of Christ and the Virgin\, ca. 1350-1400\, ivory\nDiscover the intricacies carved in this delicate devotional object\, on long-term loan from the Metropolitan Museum of art! Join Curator of Education Michelle DiMarzo for an informal conversation in the galleries. \nImage: Unknown French Artist\, Diptych: Scenes from the Life of Christ and the Virgin\, ca. 1350-1400\, ivory. Lent by the Metropolitan Museum of Art. Gift of J. Pierpont Morgan\, 1917 (17.190.214)
URL:https://ctarttrail.org/event/art-in-focus-diptych-scenes-from-the-life-of-christ-and-the-virgin/
LOCATION:Bellermine Hall – Fairfield University\, 1073 North Benson Rd\, Fairfield\, CT\, 06824\, United States
CATEGORIES:Educational
ATTACH;FMTTYPE=image/jpeg:https://ctarttrail.org/wp-content/uploads/2025/03/diptych-1300-x-780-px.jpg
ORGANIZER;CN="Fairfield University Art Museum":MAILTO:scipollaro@fairfield.edu
END:VEVENT
BEGIN:VEVENT
DTSTART;TZID=America/New_York:20250410T130000
DTEND;TZID=America/New_York:20250410T133000
DTSTAMP:20260422T163950
CREATED:20250320T211225Z
LAST-MODIFIED:20250320T211225Z
UID:10003099-1744290000-1744291800@ctarttrail.org
SUMMARY:Virtual Art in Focus: Unknown French Artist\, Diptych\, ca. 1350-1400\, ivory.
DESCRIPTION:Virtual Art in Focus: Unknown French Artist\, Diptych: Scenes from the Life of Christ and the Virgin\, ca. 1350-1400\, ivory\nDiscover the intricacies carved in this delicate devotional object\, on long-term loan from the Metropolitan Museum of art!\nJoin Curator of Education Michelle DiMarzo online! \nImage: Unknown French Artist\, Diptych: Scenes from the Life of Christ and the Virgin\, ca. 1350-1400\, ivory. Lent by the Metropolitan Museum of Art. Gift of J. Pierpont Morgan\, 1917 (17.190.214)
URL:https://ctarttrail.org/event/virtual-art-in-focus-unknown-french-artist-diptych-ca-1350-1400-ivory/
LOCATION:Bellermine Hall – Fairfield University\, 1073 North Benson Rd\, Fairfield\, CT\, 06824\, United States
CATEGORIES:Adult,Educational
ATTACH;FMTTYPE=image/jpeg:https://ctarttrail.org/wp-content/uploads/2025/03/diptych-1300-x-780-px-1.jpg
ORGANIZER;CN="Fairfield University Art Museum":MAILTO:scipollaro@fairfield.edu
END:VEVENT
BEGIN:VEVENT
DTSTART;TZID=America/New_York:20250410T180000
DTEND;TZID=America/New_York:20250410T200000
DTSTAMP:20260422T163950
CREATED:20250408T140832Z
LAST-MODIFIED:20250408T140832Z
UID:10003952-1744308000-1744315200@ctarttrail.org
SUMMARY:Museum After Hours: Adult Lecture Series 
DESCRIPTION:Join carousel artist and creator\, Jeff Briggs as we discover how Marvin Sylvor’s Fabricon company transformed the artistic standard for our industry\, showing the world how truly beautiful a carousel can be. \nVirtual Option Available: Attend the session online.\n​\nThursday\, April 10\, 2025\, 6:00-8:00 PM \nEvent Details\nDate: April 10\, 2025\nTime: 6:00 PM – 8:00 PM\nLocation: The Carousel Museum\, 95 Riverside Ave\, Bristol\, CT 06010
URL:https://ctarttrail.org/event/museum-after-hours-adult-lecture-series-3/
LOCATION:The Carousel Museum\, 95 Riverside Ave\, Bristol\, CT 06010\, CT\, 06010\, United States
CATEGORIES:Educational,Events,Lectures,Nights Out,Special Event
ATTACH;FMTTYPE=image/jpeg:https://ctarttrail.org/wp-content/uploads/2025/04/Jeff-Briggs-Image-3.jpg
END:VEVENT
END:VCALENDAR