BEGIN:VCALENDAR
VERSION:2.0
PRODID:-//Connecticut Art Trail - ECPv6.15.20//NONSGML v1.0//EN
CALSCALE:GREGORIAN
METHOD:PUBLISH
X-WR-CALNAME:Connecticut Art Trail
X-ORIGINAL-URL:https://ctarttrail.org
X-WR-CALDESC:Events for Connecticut Art Trail
REFRESH-INTERVAL;VALUE=DURATION:PT1H
X-Robots-Tag:noindex
X-PUBLISHED-TTL:PT1H
BEGIN:VTIMEZONE
TZID:America/New_York
BEGIN:DAYLIGHT
TZOFFSETFROM:-0500
TZOFFSETTO:-0400
TZNAME:EDT
DTSTART:20240310T070000
END:DAYLIGHT
BEGIN:STANDARD
TZOFFSETFROM:-0400
TZOFFSETTO:-0500
TZNAME:EST
DTSTART:20241103T060000
END:STANDARD
BEGIN:DAYLIGHT
TZOFFSETFROM:-0500
TZOFFSETTO:-0400
TZNAME:EDT
DTSTART:20250309T070000
END:DAYLIGHT
BEGIN:STANDARD
TZOFFSETFROM:-0400
TZOFFSETTO:-0500
TZNAME:EST
DTSTART:20251102T060000
END:STANDARD
BEGIN:DAYLIGHT
TZOFFSETFROM:-0500
TZOFFSETTO:-0400
TZNAME:EDT
DTSTART:20260308T070000
END:DAYLIGHT
BEGIN:STANDARD
TZOFFSETFROM:-0400
TZOFFSETTO:-0500
TZNAME:EST
DTSTART:20261101T060000
END:STANDARD
END:VTIMEZONE
BEGIN:VEVENT
DTSTART;TZID=America/New_York:20250326T100000
DTEND;TZID=America/New_York:20250326T104500
DTSTAMP:20260423T085321
CREATED:20250305T213151Z
LAST-MODIFIED:20250305T213151Z
UID:4901-1742983200-1742985900@ctarttrail.org
SUMMARY:Bruce Beginnings Junior: Hello Spring!
DESCRIPTION:Explore the sights and sounds of spring through song\, gallery tour of Nature’s Impressions and a hands-on sensory activity. \nExplore the Museum and its collection with a fun and interactive experience. This program is specifically designed for children ages 12-30 months old and their caregivers and is free with general admission. Space is limited; please see the Visitor Services desk upon arrival.
URL:https://ctarttrail.org/event/bruce-beginnings-junior-hello-spring/
LOCATION:Bruce Museum\, 1 Museum Drive\, Greenwich\, CT\, 06830-7157\, United States
CATEGORIES:Children,Family Programs,Kids and Families,Programs & Events,Public Programs,Youth & Family Programs
ATTACH;FMTTYPE=image/png:https://ctarttrail.org/wp-content/uploads/2025/02/Bruce-Beginning-Junior_-Hello-Spring.png
END:VEVENT
END:VCALENDAR