BEGIN:VCALENDAR
VERSION:2.0
PRODID:-//Connecticut Art Trail - ECPv6.15.20//NONSGML v1.0//EN
CALSCALE:GREGORIAN
METHOD:PUBLISH
X-WR-CALNAME:Connecticut Art Trail
X-ORIGINAL-URL:https://ctarttrail.org
X-WR-CALDESC:Events for Connecticut Art Trail
REFRESH-INTERVAL;VALUE=DURATION:PT1H
X-Robots-Tag:noindex
X-PUBLISHED-TTL:PT1H
BEGIN:VTIMEZONE
TZID:America/New_York
BEGIN:DAYLIGHT
TZOFFSETFROM:-0500
TZOFFSETTO:-0400
TZNAME:EDT
DTSTART:20220313T070000
END:DAYLIGHT
BEGIN:STANDARD
TZOFFSETFROM:-0400
TZOFFSETTO:-0500
TZNAME:EST
DTSTART:20221106T060000
END:STANDARD
BEGIN:DAYLIGHT
TZOFFSETFROM:-0500
TZOFFSETTO:-0400
TZNAME:EDT
DTSTART:20230312T070000
END:DAYLIGHT
BEGIN:STANDARD
TZOFFSETFROM:-0400
TZOFFSETTO:-0500
TZNAME:EST
DTSTART:20231105T060000
END:STANDARD
BEGIN:DAYLIGHT
TZOFFSETFROM:-0500
TZOFFSETTO:-0400
TZNAME:EDT
DTSTART:20240310T070000
END:DAYLIGHT
BEGIN:STANDARD
TZOFFSETFROM:-0400
TZOFFSETTO:-0500
TZNAME:EST
DTSTART:20241103T060000
END:STANDARD
END:VTIMEZONE
BEGIN:VEVENT
DTSTART;TZID=America/New_York:20230913T100000
DTEND;TZID=America/New_York:20230913T130000
DTSTAMP:20260419T102058
CREATED:20230908T172308Z
LAST-MODIFIED:20230908T172557Z
UID:856-1694599200-1694610000@ctarttrail.org
SUMMARY:Docent Training Pt. 2 - Our History Collection
DESCRIPTION:Discover your passion for art and history as a Mattatuck Museum Docent!\nA docent is part tour guide/part teacher\, leading groups through the Museum\, sharing insight\, and encouraging questions. No prior art history knowledge or teaching experience required. We welcome individuals with a love for art and local history\, including college students\, retirees\, and performers available during the day. Extensive training provided!\nDocents enjoy exclusive benefits! You’ll get early access to exhibitions\, work closely with museum staff to improve presentation skills\, and receive an individual membership to the Mattatuck Museum. Additionally\, you’ll be invited to special docent trips\, events\, engaging lectures\, and the annual staff party.\nPotential docents must attend one Part 1 session and one Part 2 session to complete the training.\nPart 1 Sessions (attend 1 of these):\nWednesday\, September 6\, 10:00 AM – 1:00 PM\nFriday\, September 8\, 10:00 AM – 1:00 PM\nPart 2 Sessions (attend 1 of these):\nMonday\, September 11\, 10:00 AM – 1:00 PM\nWednesday\, September 13\, 10:00 AM – 1:00 PM\nIf you have any questions\, please contact Angel Bleggi at Angel@mattmuseum.org.\nIf you are interested in becoming a docent\, please fill out this survey\nSurvey
URL:https://ctarttrail.org/event/docent-training-pt-2-our-history-collection-2/
END:VEVENT
END:VCALENDAR