BEGIN:VCALENDAR
VERSION:2.0
PRODID:-//Connecticut Art Trail - ECPv6.15.20//NONSGML v1.0//EN
CALSCALE:GREGORIAN
METHOD:PUBLISH
X-WR-CALNAME:Connecticut Art Trail
X-ORIGINAL-URL:https://ctarttrail.org
X-WR-CALDESC:Events for Connecticut Art Trail
REFRESH-INTERVAL;VALUE=DURATION:PT1H
X-Robots-Tag:noindex
X-PUBLISHED-TTL:PT1H
BEGIN:VTIMEZONE
TZID:America/New_York
BEGIN:DAYLIGHT
TZOFFSETFROM:-0500
TZOFFSETTO:-0400
TZNAME:EDT
DTSTART:20230312T070000
END:DAYLIGHT
BEGIN:STANDARD
TZOFFSETFROM:-0400
TZOFFSETTO:-0500
TZNAME:EST
DTSTART:20231105T060000
END:STANDARD
BEGIN:DAYLIGHT
TZOFFSETFROM:-0500
TZOFFSETTO:-0400
TZNAME:EDT
DTSTART:20240310T070000
END:DAYLIGHT
BEGIN:STANDARD
TZOFFSETFROM:-0400
TZOFFSETTO:-0500
TZNAME:EST
DTSTART:20241103T060000
END:STANDARD
BEGIN:DAYLIGHT
TZOFFSETFROM:-0500
TZOFFSETTO:-0400
TZNAME:EDT
DTSTART:20250309T070000
END:DAYLIGHT
BEGIN:STANDARD
TZOFFSETFROM:-0400
TZOFFSETTO:-0500
TZNAME:EST
DTSTART:20251102T060000
END:STANDARD
END:VTIMEZONE
BEGIN:VEVENT
DTSTART;TZID=America/New_York:20240511T120000
DTEND;TZID=America/New_York:20240511T140000
DTSTAMP:20260424T143404
CREATED:20240505T193315Z
LAST-MODIFIED:20240505T193945Z
UID:3242-1715428800-1715436000@ctarttrail.org
SUMMARY:Interactive Performance with Grumbling Gryphons
DESCRIPTION:Participate in a 1-hour drama workshop to learn the songs and dances of The Ghost Net: An Environmental Musical of the Sea. After the workshop\, all participants will perform alongside professional actors for an audience.\nWorkshop: 12:00 PM-1:00 PM (for children ages 6+)\nPerformance: 1:00 PM- 2:00 PM (children who participated in workshop will perform\, families and friends welcome to attend!)\nFree for all workshop participants and performance attendees through Art Bridges’ Access for All Initiative\nSponsored by Art Bridges’ Access for All Initiative\nRegister Here\n 
URL:https://ctarttrail.org/event/interactive-performance-with-grumbling-gryphons/
LOCATION:Mattatuck Museum\, 144 West Main Street\, Waterbury\, CT\, 06702\, United States
END:VEVENT
END:VCALENDAR