BEGIN:VCALENDAR
VERSION:2.0
PRODID:-//Connecticut Art Trail - ECPv6.15.20//NONSGML v1.0//EN
CALSCALE:GREGORIAN
METHOD:PUBLISH
X-WR-CALNAME:Connecticut Art Trail
X-ORIGINAL-URL:https://ctarttrail.org
X-WR-CALDESC:Events for Connecticut Art Trail
REFRESH-INTERVAL;VALUE=DURATION:PT1H
X-Robots-Tag:noindex
X-PUBLISHED-TTL:PT1H
BEGIN:VTIMEZONE
TZID:America/New_York
BEGIN:DAYLIGHT
TZOFFSETFROM:-0500
TZOFFSETTO:-0400
TZNAME:EDT
DTSTART:20230312T070000
END:DAYLIGHT
BEGIN:STANDARD
TZOFFSETFROM:-0400
TZOFFSETTO:-0500
TZNAME:EST
DTSTART:20231105T060000
END:STANDARD
BEGIN:DAYLIGHT
TZOFFSETFROM:-0500
TZOFFSETTO:-0400
TZNAME:EDT
DTSTART:20240310T070000
END:DAYLIGHT
BEGIN:STANDARD
TZOFFSETFROM:-0400
TZOFFSETTO:-0500
TZNAME:EST
DTSTART:20241103T060000
END:STANDARD
BEGIN:DAYLIGHT
TZOFFSETFROM:-0500
TZOFFSETTO:-0400
TZNAME:EDT
DTSTART:20250309T070000
END:DAYLIGHT
BEGIN:STANDARD
TZOFFSETFROM:-0400
TZOFFSETTO:-0500
TZNAME:EST
DTSTART:20251102T060000
END:STANDARD
END:VTIMEZONE
BEGIN:VEVENT
DTSTART;TZID=America/New_York:20240608T100000
DTEND;TZID=America/New_York:20240608T111500
DTSTAMP:20260423T055052
CREATED:20240405T190455Z
LAST-MODIFIED:20240604T192125Z
UID:3164-1717840800-1717845300@ctarttrail.org
SUMMARY:Mushroom Identification with The Three Foragers
DESCRIPTION:Are you mystified by mushrooms? Flustered by fungi? Don’t be!\nThere are some amazing edible fungi in Connecticut\, including Oysters\, Chanterelles\, and the well-known Chicken of the Woods. Join The Three Foragers as they share some of the secrets of the fungal world and teach you how to safely identify wild mushrooms using various available tools and techniques. You’ll learn how to use your senses to examine mushrooms by sight\, smell and taste\, and consider the relationships between fungi and the natural world around us. We will dispel common myths and discuss mycophagy\, the cooking and eating of wild mushrooms.\nMeets at the Knobloch Family Farmhouse\nAges 8+\nSaturday\, June 8\n10 – 11:15 am\nMembers: $5/participant\nNon-Members: $8/participant\nREGISTER\nThe Three Foragers are a family from southeastern Connecticut who have been identifying\, photographing and cooking with the edible plants and fungi of New England for more than 18 years. Their blog\, Facebook page\, and book all focus on family-friendly\, environmentally sustainable harvest of both our native and invasive species of plants\, and ways to incorporate these foods into your diet with original recipes.  \n 
URL:https://ctarttrail.org/event/mushroom-identification-with-the-three-foragers/
LOCATION:Knobloch Family Farmhouse\, 151 Scofieldtown Rd\, Stamford\, CT\, 06903\, United States
CATEGORIES:Outdoor Adventures,Programs & Events
ATTACH;FMTTYPE=image/jpeg:https://ctarttrail.org/wp-content/uploads/2024/04/girl-with-mushroom-web-OcRlIJ.tmp_.jpg
END:VEVENT
END:VCALENDAR