BEGIN:VCALENDAR
VERSION:2.0
PRODID:-//Connecticut Art Trail - ECPv6.15.20//NONSGML v1.0//EN
CALSCALE:GREGORIAN
METHOD:PUBLISH
X-WR-CALNAME:Connecticut Art Trail
X-ORIGINAL-URL:https://ctarttrail.org
X-WR-CALDESC:Events for Connecticut Art Trail
REFRESH-INTERVAL;VALUE=DURATION:PT1H
X-Robots-Tag:noindex
X-PUBLISHED-TTL:PT1H
BEGIN:VTIMEZONE
TZID:America/New_York
BEGIN:DAYLIGHT
TZOFFSETFROM:-0500
TZOFFSETTO:-0400
TZNAME:EDT
DTSTART:20240310T070000
END:DAYLIGHT
BEGIN:STANDARD
TZOFFSETFROM:-0400
TZOFFSETTO:-0500
TZNAME:EST
DTSTART:20241103T060000
END:STANDARD
BEGIN:DAYLIGHT
TZOFFSETFROM:-0500
TZOFFSETTO:-0400
TZNAME:EDT
DTSTART:20250309T070000
END:DAYLIGHT
BEGIN:STANDARD
TZOFFSETFROM:-0400
TZOFFSETTO:-0500
TZNAME:EST
DTSTART:20251102T060000
END:STANDARD
BEGIN:DAYLIGHT
TZOFFSETFROM:-0500
TZOFFSETTO:-0400
TZNAME:EDT
DTSTART:20260308T070000
END:DAYLIGHT
BEGIN:STANDARD
TZOFFSETFROM:-0400
TZOFFSETTO:-0500
TZNAME:EST
DTSTART:20261101T060000
END:STANDARD
END:VTIMEZONE
BEGIN:VEVENT
DTSTART;TZID=America/New_York:20250222T160000
DTEND;TZID=America/New_York:20250222T181500
DTSTAMP:20260419T074557
CREATED:20250131T182006Z
LAST-MODIFIED:20250131T182006Z
UID:4432-1740240000-1740248100@ctarttrail.org
SUMMARY:Music at Grace Farms | Andromeda Turre
DESCRIPTION:Join us for a performance from Andromeda Turre\, an award-winning jazz performer\, composer\, and educator committed to using her art for positive change. \nAfter delivering memorable performances during our 2022 and 2023 Songs of the Season music series\, Turre returns to Grace Farms to headline her own concert and perform songs from her newest project\, From The Earth. \nFrom the Earth is a programmatic jazz suite addressing environmental justice and amplifying humanity’s deep connection to the planet. Supported by the 2023 Jazz Road Creative Residencies Grant from SouthArts\, funded by Doris Duke and Andrew W. Mellon Foundations\, as well as a 2024 Support for Artists Grant from the New York State Council on the Arts\, From the Earth exemplifies Turre’s vision to use music as a vehicle for empathy\, awareness\, and social transformation. \nThe concert schedule is as follows: \n4 – 4:30 pm | Q&A and Tea with Grace Farms Music Director Marcus G. Miller\n4:30 – 6 pm | Concert featuring Andromeda Turre\n6 – 6:15 pm | Meet and Greet with Andromeda Turre
URL:https://ctarttrail.org/event/music-at-grace-farms-andromeda-turre/
LOCATION:Grace Farms\, 365 Lukes Wood Road\, New Canaan\, CT\, 06840\, United States
CATEGORIES:Events,Performance,Programs & Events
ATTACH;FMTTYPE=image/png:https://ctarttrail.org/wp-content/uploads/2025/01/Andromeda-Turre-2025-hero.png
END:VEVENT
END:VCALENDAR