BEGIN:VCALENDAR
VERSION:2.0
PRODID:-//Connecticut Art Trail - ECPv6.15.20//NONSGML v1.0//EN
CALSCALE:GREGORIAN
METHOD:PUBLISH
X-WR-CALNAME:Connecticut Art Trail
X-ORIGINAL-URL:https://ctarttrail.org
X-WR-CALDESC:Events for Connecticut Art Trail
REFRESH-INTERVAL;VALUE=DURATION:PT1H
X-Robots-Tag:noindex
X-PUBLISHED-TTL:PT1H
BEGIN:VTIMEZONE
TZID:America/New_York
BEGIN:DAYLIGHT
TZOFFSETFROM:-0500
TZOFFSETTO:-0400
TZNAME:EDT
DTSTART:20240310T070000
END:DAYLIGHT
BEGIN:STANDARD
TZOFFSETFROM:-0400
TZOFFSETTO:-0500
TZNAME:EST
DTSTART:20241103T060000
END:STANDARD
BEGIN:DAYLIGHT
TZOFFSETFROM:-0500
TZOFFSETTO:-0400
TZNAME:EDT
DTSTART:20250309T070000
END:DAYLIGHT
BEGIN:STANDARD
TZOFFSETFROM:-0400
TZOFFSETTO:-0500
TZNAME:EST
DTSTART:20251102T060000
END:STANDARD
BEGIN:DAYLIGHT
TZOFFSETFROM:-0500
TZOFFSETTO:-0400
TZNAME:EDT
DTSTART:20260308T070000
END:DAYLIGHT
BEGIN:STANDARD
TZOFFSETFROM:-0400
TZOFFSETTO:-0500
TZNAME:EST
DTSTART:20261101T060000
END:STANDARD
END:VTIMEZONE
BEGIN:VEVENT
DTSTART;TZID=America/New_York:20250913T110000
DTEND;TZID=America/New_York:20250913T120000
DTSTAMP:20260419T115746
CREATED:20250904T152040Z
LAST-MODIFIED:20250904T152040Z
UID:6382-1757761200-1757764800@ctarttrail.org
SUMMARY:Nature Workshops with Kimberly Kelly | Slow Flower Bouquets
DESCRIPTION:Inspired by the slow flower movement\, this hands-on workshop promotes seasonal and sustainable cut flowers and emphasizes the importance of knowing the origin of your flowers. \nNature Workshops by Kimberly Kelly invite adults of all experience to learn about the various cultural practices that rely on nature\, including flower bouquets\, the impact of seeds\, permaculture\, and holiday décor. Nature Workshops are led by Grace Farms Director of Horticulture\, Kimberly Kelly.
URL:https://ctarttrail.org/event/nature-workshops-with-kimberly-kelly-slow-flower-bouquets/
LOCATION:Grace Farms\, 365 Lukes Wood Road\, New Canaan\, CT\, 06840\, United States
CATEGORIES:Gardens
ATTACH;FMTTYPE=image/png:https://ctarttrail.org/wp-content/uploads/2025/08/Slow-Flower-Bouquet-web-v1.png
END:VEVENT
END:VCALENDAR