BEGIN:VCALENDAR
VERSION:2.0
PRODID:-//Connecticut Art Trail - ECPv6.15.20//NONSGML v1.0//EN
CALSCALE:GREGORIAN
METHOD:PUBLISH
X-WR-CALNAME:Connecticut Art Trail
X-ORIGINAL-URL:https://ctarttrail.org
X-WR-CALDESC:Events for Connecticut Art Trail
REFRESH-INTERVAL;VALUE=DURATION:PT1H
X-Robots-Tag:noindex
X-PUBLISHED-TTL:PT1H
BEGIN:VTIMEZONE
TZID:America/New_York
BEGIN:DAYLIGHT
TZOFFSETFROM:-0500
TZOFFSETTO:-0400
TZNAME:EDT
DTSTART:20230312T070000
END:DAYLIGHT
BEGIN:STANDARD
TZOFFSETFROM:-0400
TZOFFSETTO:-0500
TZNAME:EST
DTSTART:20231105T060000
END:STANDARD
BEGIN:DAYLIGHT
TZOFFSETFROM:-0500
TZOFFSETTO:-0400
TZNAME:EDT
DTSTART:20240310T070000
END:DAYLIGHT
BEGIN:STANDARD
TZOFFSETFROM:-0400
TZOFFSETTO:-0500
TZNAME:EST
DTSTART:20241103T060000
END:STANDARD
BEGIN:DAYLIGHT
TZOFFSETFROM:-0500
TZOFFSETTO:-0400
TZNAME:EDT
DTSTART:20250309T070000
END:DAYLIGHT
BEGIN:STANDARD
TZOFFSETFROM:-0400
TZOFFSETTO:-0500
TZNAME:EST
DTSTART:20251102T060000
END:STANDARD
END:VTIMEZONE
BEGIN:VEVENT
DTSTART;TZID=America/New_York:20240228T180000
DTEND;TZID=America/New_York:20240228T200000
DTSTAMP:20260420T053312
CREATED:20240106T181824Z
LAST-MODIFIED:20240205T184023Z
UID:1614-1709143200-1709150400@ctarttrail.org
SUMMARY:Nights Out: Maple Boildown
DESCRIPTION:Did you know that the SM&NC is one of only two official maple sugar producers in Fairfield County? See first-hand how maple syrup is made in our very own Sugar House + Cidery using sap from the 100+ mature maple trees found right here on our 118-acre site. This adults-only evening of Maple Sugaring will feature tastings of fresh syrup along with maple beer\, maple whiskey\, and a maple-inspired snack box.\nMembers: $25\nNon-Members: $30\nWednesday\, February 28   |   6 – 8 pm\nREGISTER
URL:https://ctarttrail.org/event/nights-out-maple-boildown/
LOCATION:Sugarhouse + Cidery\, 151 Scofieldtown Rd\, Stamford\, CT\, United States
CATEGORIES:Nights Out,Programs & Events
ATTACH;FMTTYPE=image/jpeg:https://ctarttrail.org/wp-content/uploads/2024/01/Maple-14-G6XsWM.tmp_.jpg
GEO:41.12427;-73.549999
X-APPLE-STRUCTURED-LOCATION;VALUE=URI;X-ADDRESS=Sugarhouse + Cidery 151 Scofieldtown Rd Stamford CT United States;X-APPLE-RADIUS=500;X-TITLE=151 Scofieldtown Rd:geo:-73.549999,41.12427
END:VEVENT
END:VCALENDAR