BEGIN:VCALENDAR
VERSION:2.0
PRODID:-//Connecticut Art Trail - ECPv6.15.20//NONSGML v1.0//EN
CALSCALE:GREGORIAN
METHOD:PUBLISH
X-WR-CALNAME:Connecticut Art Trail
X-ORIGINAL-URL:https://ctarttrail.org
X-WR-CALDESC:Events for Connecticut Art Trail
REFRESH-INTERVAL;VALUE=DURATION:PT1H
X-Robots-Tag:noindex
X-PUBLISHED-TTL:PT1H
BEGIN:VTIMEZONE
TZID:America/New_York
BEGIN:DAYLIGHT
TZOFFSETFROM:-0500
TZOFFSETTO:-0400
TZNAME:EDT
DTSTART:20230312T070000
END:DAYLIGHT
BEGIN:STANDARD
TZOFFSETFROM:-0400
TZOFFSETTO:-0500
TZNAME:EST
DTSTART:20231105T060000
END:STANDARD
BEGIN:DAYLIGHT
TZOFFSETFROM:-0500
TZOFFSETTO:-0400
TZNAME:EDT
DTSTART:20240310T070000
END:DAYLIGHT
BEGIN:STANDARD
TZOFFSETFROM:-0400
TZOFFSETTO:-0500
TZNAME:EST
DTSTART:20241103T060000
END:STANDARD
BEGIN:DAYLIGHT
TZOFFSETFROM:-0500
TZOFFSETTO:-0400
TZNAME:EDT
DTSTART:20250309T070000
END:DAYLIGHT
BEGIN:STANDARD
TZOFFSETFROM:-0400
TZOFFSETTO:-0500
TZNAME:EST
DTSTART:20251102T060000
END:STANDARD
END:VTIMEZONE
BEGIN:VEVENT
DTSTART;TZID=America/New_York:20240418T180000
DTEND;TZID=America/New_York:20240418T200000
DTSTAMP:20260422T073449
CREATED:20240405T190420Z
LAST-MODIFIED:20240405T190659Z
UID:3141-1713463200-1713470400@ctarttrail.org
SUMMARY:Nights Out: Poetry Workshop
DESCRIPTION:Sophie Cabot BlackAuthor\, poet\, activist & local farmer\nHow do we want to look at art\, and how can we interpret what we see?\nJoin Sophie Cabot Black\, poet\, activist\, and local farmer\, for an intimate writing workshop exploring themes of resilience and strength inspired by our current exhibition Pat Musick: Our Fragile Home. When you register\, you’ll be invited to view the exhibition on a private curator’s tour\, and to develop your thoughts in writing to bring with you to the workshop.\nSophie Cabot Black is the author of three collections: The Misunderstanding of Nature\, The Descent\, and The Exchange. NPR called her “the poet’s poet\,” her work was a “hot pick” on CNBC’s Topic A with Tina Brown\, and from time to time she can be seen in the pages of The New Yorker.\nRefreshments and nibbles will be served!\nMembers: $25\nNon-Members: $30\nThursday April 18\n6 – 8 pm\nREGISTER
URL:https://ctarttrail.org/event/nights-out-poetry-workshop/
LOCATION:Bendel Mansion\, 39 Scofieldtown Road\, Stamford\, CT\, 06903\, United States
CATEGORIES:Curatorial,Nights Out,Programs & Events,Special Event
ATTACH;FMTTYPE=image/jpeg:https://ctarttrail.org/wp-content/uploads/2024/04/cabot.black_-dd58IP.tmp_.jpg
END:VEVENT
END:VCALENDAR