BEGIN:VCALENDAR
VERSION:2.0
PRODID:-//Connecticut Art Trail - ECPv6.15.20//NONSGML v1.0//EN
CALSCALE:GREGORIAN
METHOD:PUBLISH
X-WR-CALNAME:Connecticut Art Trail
X-ORIGINAL-URL:https://ctarttrail.org
X-WR-CALDESC:Events for Connecticut Art Trail
REFRESH-INTERVAL;VALUE=DURATION:PT1H
X-Robots-Tag:noindex
X-PUBLISHED-TTL:PT1H
BEGIN:VTIMEZONE
TZID:America/New_York
BEGIN:DAYLIGHT
TZOFFSETFROM:-0500
TZOFFSETTO:-0400
TZNAME:EDT
DTSTART:20250309T070000
END:DAYLIGHT
BEGIN:STANDARD
TZOFFSETFROM:-0400
TZOFFSETTO:-0500
TZNAME:EST
DTSTART:20251102T060000
END:STANDARD
BEGIN:DAYLIGHT
TZOFFSETFROM:-0500
TZOFFSETTO:-0400
TZNAME:EDT
DTSTART:20260308T070000
END:DAYLIGHT
BEGIN:STANDARD
TZOFFSETFROM:-0400
TZOFFSETTO:-0500
TZNAME:EST
DTSTART:20261101T060000
END:STANDARD
BEGIN:DAYLIGHT
TZOFFSETFROM:-0500
TZOFFSETTO:-0400
TZNAME:EDT
DTSTART:20270314T070000
END:DAYLIGHT
BEGIN:STANDARD
TZOFFSETFROM:-0400
TZOFFSETTO:-0500
TZNAME:EST
DTSTART:20271107T060000
END:STANDARD
END:VTIMEZONE
BEGIN:VEVENT
DTSTART;TZID=America/New_York:20260103T100000
DTEND;TZID=America/New_York:20260103T170000
DTSTAMP:20260419T124832
CREATED:20251230T191311Z
LAST-MODIFIED:20251230T191311Z
UID:10007067-1767434400-1767459600@ctarttrail.org
SUMMARY:Open Arts Studio
DESCRIPTION:Open Arts Studio is a site-specific creative exploration for younger audiences to engage in open-ended inquiry and reflect on the building\, its shapes and designs\, and its ideas. The series asks participants to respond to both the built and the natural environment\, encouraging new ways of thinking. Led by Grace Farms Arts Educator Nancy Jameson\, Open Arts Studio provides a new prompt monthly\, along with materials and guidance for participants to make their responses. \nFor ages 4 – 11 with adult caregivers.
URL:https://ctarttrail.org/event/open-arts-studio-3/2026-01-03/
LOCATION:Grace Farms\, 365 Lukes Wood Road\, New Canaan\, CT\, 06840\, United States
CATEGORIES:Art Classes and Workshops,Kids and Families
ATTACH;FMTTYPE=image/png:https://ctarttrail.org/wp-content/uploads/2025/12/2025-Open-Arts-Studio.png
END:VEVENT
END:VCALENDAR