BEGIN:VCALENDAR
VERSION:2.0
PRODID:-//Connecticut Art Trail - ECPv6.15.20//NONSGML v1.0//EN
CALSCALE:GREGORIAN
METHOD:PUBLISH
X-WR-CALNAME:Connecticut Art Trail
X-ORIGINAL-URL:https://ctarttrail.org
X-WR-CALDESC:Events for Connecticut Art Trail
REFRESH-INTERVAL;VALUE=DURATION:PT1H
X-Robots-Tag:noindex
X-PUBLISHED-TTL:PT1H
BEGIN:VTIMEZONE
TZID:America/New_York
BEGIN:DAYLIGHT
TZOFFSETFROM:-0500
TZOFFSETTO:-0400
TZNAME:EDT
DTSTART:20230312T070000
END:DAYLIGHT
BEGIN:STANDARD
TZOFFSETFROM:-0400
TZOFFSETTO:-0500
TZNAME:EST
DTSTART:20231105T060000
END:STANDARD
BEGIN:DAYLIGHT
TZOFFSETFROM:-0500
TZOFFSETTO:-0400
TZNAME:EDT
DTSTART:20240310T070000
END:DAYLIGHT
BEGIN:STANDARD
TZOFFSETFROM:-0400
TZOFFSETTO:-0500
TZNAME:EST
DTSTART:20241103T060000
END:STANDARD
BEGIN:DAYLIGHT
TZOFFSETFROM:-0500
TZOFFSETTO:-0400
TZNAME:EDT
DTSTART:20250309T070000
END:DAYLIGHT
BEGIN:STANDARD
TZOFFSETFROM:-0400
TZOFFSETTO:-0500
TZNAME:EST
DTSTART:20251102T060000
END:STANDARD
END:VTIMEZONE
BEGIN:VEVENT
DTSTART;TZID=America/New_York:20240918T180000
DTEND;TZID=America/New_York:20240918T200000
DTSTAMP:20260424T044019
CREATED:20240306T193333Z
LAST-MODIFIED:20240505T195119Z
UID:3091-1726682400-1726689600@ctarttrail.org
SUMMARY:Opera From the Porch - Presented by Opera Connecticut
DESCRIPTION:PURCHASE TICKETS\nOpera Connecticut returns to Hill-Stead with its cadre of talented sopranos\, tenors\, mezzos\, and basses\, for an evening of favorite selections from operas old and new. \nOpera Connecticut believes in enriching our community by offering high quality\, affordable live opera performances while providing opportunities for emerging local artists. Please check back for details on the performance.\nThe performance will take place on the West Lawn. Please bring chairs or blanket\, and a picnic.\nSchedule\n5:30 pm    Gates open\n6:00 pm    Performance begins\nRain Date: No rain date\, the performance will be moved inside to the Makeshift Theater in the event of rain. Chairs will be provided if the event is inside. \nTickets\nAdult  | $25 per person\nChildren  | $10 per child\nWe strongly advise attendees to purchase tickets in advance. Any available tickets sold at the gate will be by credit card only. Tickets to benefit Opera CT and HSM.\nSee all upcoming From the Porch events in our Calendar.
URL:https://ctarttrail.org/event/opera-from-the-porch-presented-by-opera-connecticut-2/
CATEGORIES:From the Porch,Outdoors,Performance,Public Programs
ATTACH;FMTTYPE=image/jpeg:https://ctarttrail.org/wp-content/uploads/2024/03/Opera-Connecticut-JOR8xL.tmp_.jpg
END:VEVENT
END:VCALENDAR