BEGIN:VCALENDAR
VERSION:2.0
PRODID:-//Connecticut Art Trail - ECPv6.15.20//NONSGML v1.0//EN
CALSCALE:GREGORIAN
METHOD:PUBLISH
X-WR-CALNAME:Connecticut Art Trail
X-ORIGINAL-URL:https://ctarttrail.org
X-WR-CALDESC:Events for Connecticut Art Trail
REFRESH-INTERVAL;VALUE=DURATION:PT1H
X-Robots-Tag:noindex
X-PUBLISHED-TTL:PT1H
BEGIN:VTIMEZONE
TZID:America/New_York
BEGIN:DAYLIGHT
TZOFFSETFROM:-0500
TZOFFSETTO:-0400
TZNAME:EDT
DTSTART:20230312T070000
END:DAYLIGHT
BEGIN:STANDARD
TZOFFSETFROM:-0400
TZOFFSETTO:-0500
TZNAME:EST
DTSTART:20231105T060000
END:STANDARD
BEGIN:DAYLIGHT
TZOFFSETFROM:-0500
TZOFFSETTO:-0400
TZNAME:EDT
DTSTART:20240310T070000
END:DAYLIGHT
BEGIN:STANDARD
TZOFFSETFROM:-0400
TZOFFSETTO:-0500
TZNAME:EST
DTSTART:20241103T060000
END:STANDARD
BEGIN:DAYLIGHT
TZOFFSETFROM:-0500
TZOFFSETTO:-0400
TZNAME:EDT
DTSTART:20250309T070000
END:DAYLIGHT
BEGIN:STANDARD
TZOFFSETFROM:-0400
TZOFFSETTO:-0500
TZNAME:EST
DTSTART:20251102T060000
END:STANDARD
END:VTIMEZONE
BEGIN:VEVENT
DTSTART;TZID=America/New_York:20241102T140000
DTEND;TZID=America/New_York:20241102T153000
DTSTAMP:20260419T150151
CREATED:20241101T200409Z
LAST-MODIFIED:20241101T200409Z
UID:3871-1730556000-1730561400@ctarttrail.org
SUMMARY:Play Reading: Toxic by Zachary J. Allen
DESCRIPTION:Enjoy this original one-act play by Zachary J. Allen\, previously performed at NYC Summerfest. Q&A to follow the reading.\nAbout Toxic: Enter Chloe and David\, a bisexual couple living together who are headed out for a night of clubbing. However\, secrets are revealed on their way to the club\, leading to a vicious breakup. After going their separate ways\, they come to realize that they were better together than apart.\nPresented in partnership with City Youth Theater.\nRegister Here\nInterested in discounts\, free admission\, and more? Become a member today!
URL:https://ctarttrail.org/event/play-reading-toxic-by-zachary-j-allen/
LOCATION:Mattatuck Museum\, 144 W Main St\, Waterbury\, CT\, United States
GEO:41.556639;-73.043483
X-APPLE-STRUCTURED-LOCATION;VALUE=URI;X-ADDRESS=Mattatuck Museum 144 W Main St Waterbury CT United States;X-APPLE-RADIUS=500;X-TITLE=144 W Main St:geo:-73.043483,41.556639
END:VEVENT
END:VCALENDAR