BEGIN:VCALENDAR
VERSION:2.0
PRODID:-//Connecticut Art Trail - ECPv6.15.20//NONSGML v1.0//EN
CALSCALE:GREGORIAN
METHOD:PUBLISH
X-WR-CALNAME:Connecticut Art Trail
X-ORIGINAL-URL:https://ctarttrail.org
X-WR-CALDESC:Events for Connecticut Art Trail
REFRESH-INTERVAL;VALUE=DURATION:PT1H
X-Robots-Tag:noindex
X-PUBLISHED-TTL:PT1H
BEGIN:VTIMEZONE
TZID:America/New_York
BEGIN:DAYLIGHT
TZOFFSETFROM:-0500
TZOFFSETTO:-0400
TZNAME:EDT
DTSTART:20240310T070000
END:DAYLIGHT
BEGIN:STANDARD
TZOFFSETFROM:-0400
TZOFFSETTO:-0500
TZNAME:EST
DTSTART:20241103T060000
END:STANDARD
BEGIN:DAYLIGHT
TZOFFSETFROM:-0500
TZOFFSETTO:-0400
TZNAME:EDT
DTSTART:20250309T070000
END:DAYLIGHT
BEGIN:STANDARD
TZOFFSETFROM:-0400
TZOFFSETTO:-0500
TZNAME:EST
DTSTART:20251102T060000
END:STANDARD
BEGIN:DAYLIGHT
TZOFFSETFROM:-0500
TZOFFSETTO:-0400
TZNAME:EDT
DTSTART:20260308T070000
END:DAYLIGHT
BEGIN:STANDARD
TZOFFSETFROM:-0400
TZOFFSETTO:-0500
TZNAME:EST
DTSTART:20261101T060000
END:STANDARD
END:VTIMEZONE
BEGIN:VEVENT
DTSTART;TZID=America/New_York:20251122T103000
DTEND;TZID=America/New_York:20251122T133000
DTSTAMP:20260419T192704
CREATED:20251110T191425Z
LAST-MODIFIED:20251110T191425Z
UID:6730-1763807400-1763818200@ctarttrail.org
SUMMARY:Teen Art Workshops: Art Scavenger Hunt
DESCRIPTION:Create\, explore\, and connect at monthly Teen Art Workshops for ages 13–18—led by guest artists in a welcoming studio setting. \nArt Scavenger Hunt\nSaturday\, November 22 | 10:30am–1:30pm\nAges 13–18 | Suggested Donation: $10\nTeaching Artist: Abigail Lindquist \nWe’ll explore beyond AMP to find real-world examples of art principles and elements\, then bring our finds back to share and discuss—with hot chocolate and snacks to finish. \nAbout Teen Art Workshops @AMP\nFourth Saturdays | 10:30am–1:30pm | Ages 13–18 | Suggested Donation: $10 \nMonthly Teen Art Workshops at AMP give young artists time and space to focus on their creative interests—surrounded by inspiration and guided by guest teaching artists. \nEach session offers hands-on projects\, conversation\, and feedback in a supportive studio setting or off-site art destination. Workshop topics vary and reflect what matters to teens—exploring personal voice\, creative process\, and new techniques. \nOpen to all skill levels. Materials provided. Suggested donation is $10\, but all teens are welcome regardless of ability to pay. \nYou may also be interested in AMP’s Teen Art Studio on second Saturdays. \nAbout the Teaching Artist\nAbigail Lindquist is a multimedia artist and educator with a background in fine arts and art history from Central Connecticut State University. Her work spans oil painting\, fiber arts\, photography\, printmaking\, and narrative installation. With over a decade of teaching experience\, Abigail designs hands-on programs that encourage young artists to explore their own creative voice while building the skills and language to engage more deeply with art. She has also worked in artist representation and commercial photography\, supporting illustrators whose work appears in The New Yorker\, The New York Times\, and the BBC. At AMP\, she leads thoughtful\, media-driven workshops that inspire connection\, curiosity\, and artistic growth. \nCome ready to make art\, try new things\, and connect with a community of teen creatives. Registration appreciated.\nRegister here: https://www.eventbrite.com/e/teen-art-workshop-art-scavenger-hunt-tickets-1574491349009?aff=oddtdtcreator
URL:https://ctarttrail.org/event/teen-art-workshops-art-scavenger-hunt/
LOCATION:American Mural Project\, 90 Whiting St\, Winsted\, 06098\, United States
CATEGORIES:Art Classes and Workshops,Studio Classes & Workhops,Weekend Workshops
ATTACH;FMTTYPE=image/jpeg:https://ctarttrail.org/wp-content/uploads/2025/10/SKY3281.jpg
END:VEVENT
END:VCALENDAR