BEGIN:VCALENDAR
VERSION:2.0
PRODID:-//Connecticut Art Trail - ECPv6.15.20//NONSGML v1.0//EN
CALSCALE:GREGORIAN
METHOD:PUBLISH
X-WR-CALNAME:Connecticut Art Trail
X-ORIGINAL-URL:https://ctarttrail.org
X-WR-CALDESC:Events for Connecticut Art Trail
REFRESH-INTERVAL;VALUE=DURATION:PT1H
X-Robots-Tag:noindex
X-PUBLISHED-TTL:PT1H
BEGIN:VTIMEZONE
TZID:America/New_York
BEGIN:DAYLIGHT
TZOFFSETFROM:-0500
TZOFFSETTO:-0400
TZNAME:EDT
DTSTART:20240310T070000
END:DAYLIGHT
BEGIN:STANDARD
TZOFFSETFROM:-0400
TZOFFSETTO:-0500
TZNAME:EST
DTSTART:20241103T060000
END:STANDARD
BEGIN:DAYLIGHT
TZOFFSETFROM:-0500
TZOFFSETTO:-0400
TZNAME:EDT
DTSTART:20250309T070000
END:DAYLIGHT
BEGIN:STANDARD
TZOFFSETFROM:-0400
TZOFFSETTO:-0500
TZNAME:EST
DTSTART:20251102T060000
END:STANDARD
BEGIN:DAYLIGHT
TZOFFSETFROM:-0500
TZOFFSETTO:-0400
TZNAME:EDT
DTSTART:20260308T070000
END:DAYLIGHT
BEGIN:STANDARD
TZOFFSETFROM:-0400
TZOFFSETTO:-0500
TZNAME:EST
DTSTART:20261101T060000
END:STANDARD
END:VTIMEZONE
BEGIN:VEVENT
DTSTART;TZID=America/New_York:20250331T093000
DTEND;TZID=America/New_York:20250331T120000
DTSTAMP:20260419T103010
CREATED:20250130T200356Z
LAST-MODIFIED:20250301T201831Z
UID:4482-1743413400-1743422400@ctarttrail.org
SUMMARY:Vacation Drop-Off Day: Signs of Spring
DESCRIPTION:From skunk cabbage to our first frogs\, there are signs of spring we look for every year! We’ll hit the trails\, visit the vernal pools\, and check out our woodland meadow to see what signs of spring we can find!\nAbout SM&NC Vacation Days\nNo school? No problem! No school? No problem! Join us for mornings of fun at the SM&NC! Each day will have a different theme but all will be full of animal visits\, trail experiences\, art projects\, and more. Limited to 12 participants. Must be of age by program date. Please pack a peanut/tree nut free snack and water\, and dress for messy play. Meets at Heckscher Barn.\nMonday\, March 31\nAges 5 – 10\n9:30 am – noon\nMembers: $45/day/child\nNon-Members: $50/day/child\nREGISTER
URL:https://ctarttrail.org/event/vacation-drop-off-day-signs-of-spring/
LOCATION:Heckscher Barn\, 151 Scofieldtown Rd\, Stamford\, CT\, United States
CATEGORIES:Outdoor Adventures,Programs & Events,Vacation Drop Off Day
ATTACH;FMTTYPE=image/jpeg:https://ctarttrail.org/wp-content/uploads/2025/01/frog-in-river-1-e1735929136990-oj7kZW.tmp_.jpg
GEO:41.12427;-73.549999
X-APPLE-STRUCTURED-LOCATION;VALUE=URI;X-ADDRESS=Heckscher Barn 151 Scofieldtown Rd Stamford CT United States;X-APPLE-RADIUS=500;X-TITLE=151 Scofieldtown Rd:geo:-73.549999,41.12427
END:VEVENT
END:VCALENDAR