BEGIN:VCALENDAR
VERSION:2.0
PRODID:-//Connecticut Art Trail - ECPv6.15.20//NONSGML v1.0//EN
CALSCALE:GREGORIAN
METHOD:PUBLISH
X-WR-CALNAME:Connecticut Art Trail
X-ORIGINAL-URL:https://ctarttrail.org
X-WR-CALDESC:Events for Connecticut Art Trail
REFRESH-INTERVAL;VALUE=DURATION:PT1H
X-Robots-Tag:noindex
X-PUBLISHED-TTL:PT1H
BEGIN:VTIMEZONE
TZID:America/New_York
BEGIN:DAYLIGHT
TZOFFSETFROM:-0500
TZOFFSETTO:-0400
TZNAME:EDT
DTSTART:20250309T070000
END:DAYLIGHT
BEGIN:STANDARD
TZOFFSETFROM:-0400
TZOFFSETTO:-0500
TZNAME:EST
DTSTART:20251102T060000
END:STANDARD
BEGIN:DAYLIGHT
TZOFFSETFROM:-0500
TZOFFSETTO:-0400
TZNAME:EDT
DTSTART:20260308T070000
END:DAYLIGHT
BEGIN:STANDARD
TZOFFSETFROM:-0400
TZOFFSETTO:-0500
TZNAME:EST
DTSTART:20261101T060000
END:STANDARD
BEGIN:DAYLIGHT
TZOFFSETFROM:-0500
TZOFFSETTO:-0400
TZNAME:EDT
DTSTART:20270314T070000
END:DAYLIGHT
BEGIN:STANDARD
TZOFFSETFROM:-0400
TZOFFSETTO:-0500
TZNAME:EST
DTSTART:20271107T060000
END:STANDARD
END:VTIMEZONE
BEGIN:VEVENT
DTSTART;TZID=America/New_York:20260511T170000
DTEND;TZID=America/New_York:20260511T173000
DTSTAMP:20260423T042209
CREATED:20260325T184607Z
LAST-MODIFIED:20260325T184607Z
UID:7390-1778518800-1778520600@ctarttrail.org
SUMMARY:Virtual Meditation and Mindfulness
DESCRIPTION:Join Jackie DeLise\, master certified meditation and mindfulness teacher and stress management expert\, for a virtual guided meditation class. Jackie will share ancient wisdom for your modern lifestyle\, and will guide you in becoming your true self.\nNo prior experience necessary – learn how to cultivate inner calm\, clarity\, peace and harmony in your life. All are welcome!\nTo learn more about Jackie visit: https://www.jackiedelise.com/.
URL:https://ctarttrail.org/event/virtual-meditation-and-mindfulness-7/
LOCATION:CT
CATEGORIES:Wellness
ATTACH;FMTTYPE=image/jpeg:https://ctarttrail.org/wp-content/uploads/2026/02/VIRT-MEDITATION-3.jpg-3-scaled.jpg
ORGANIZER;CN="Fairfield University Art Museum":MAILTO:scipollaro@fairfield.edu
END:VEVENT
END:VCALENDAR