BEGIN:VCALENDAR
VERSION:2.0
PRODID:-//Connecticut Art Trail - ECPv6.15.20//NONSGML v1.0//EN
CALSCALE:GREGORIAN
METHOD:PUBLISH
X-WR-CALNAME:Connecticut Art Trail
X-ORIGINAL-URL:https://ctarttrail.org
X-WR-CALDESC:Events for Connecticut Art Trail
REFRESH-INTERVAL;VALUE=DURATION:PT1H
X-Robots-Tag:noindex
X-PUBLISHED-TTL:PT1H
BEGIN:VTIMEZONE
TZID:America/New_York
BEGIN:DAYLIGHT
TZOFFSETFROM:-0500
TZOFFSETTO:-0400
TZNAME:EDT
DTSTART:20240310T070000
END:DAYLIGHT
BEGIN:STANDARD
TZOFFSETFROM:-0400
TZOFFSETTO:-0500
TZNAME:EST
DTSTART:20241103T060000
END:STANDARD
BEGIN:DAYLIGHT
TZOFFSETFROM:-0500
TZOFFSETTO:-0400
TZNAME:EDT
DTSTART:20250309T070000
END:DAYLIGHT
BEGIN:STANDARD
TZOFFSETFROM:-0400
TZOFFSETTO:-0500
TZNAME:EST
DTSTART:20251102T060000
END:STANDARD
BEGIN:DAYLIGHT
TZOFFSETFROM:-0500
TZOFFSETTO:-0400
TZNAME:EDT
DTSTART:20260308T070000
END:DAYLIGHT
BEGIN:STANDARD
TZOFFSETFROM:-0400
TZOFFSETTO:-0500
TZNAME:EST
DTSTART:20261101T060000
END:STANDARD
END:VTIMEZONE
BEGIN:VEVENT
DTSTART;TZID=America/New_York:20250517T133000
DTEND;TZID=America/New_York:20250517T143000
DTSTAMP:20260420T043434
CREATED:20250331T201802Z
LAST-MODIFIED:20250331T201811Z
UID:5166-1747488600-1747492200@ctarttrail.org
SUMMARY:We Love Cattle!
DESCRIPTION:An encore session of this popular program! Meet our beloved cattle — Milking Shorthorns\, Prim & Nessie; Scottish Highland\, Petunia; and Randall Ox\, Moose — up close! Help to give them some treats and see how our farmers have trained them to follow commands through enrichment.\nEach ticket includes one adult and one child. Limited to 6 pairs.\nMembers: $12/adult+child pair\nNon-Members: $15/adult+child pair \nAll Ages\nSaturday\, May 17\n1:30 – 2:30 pm\nREGISTER ADULT+CHILD PAIR
URL:https://ctarttrail.org/event/we-love-cattle/
LOCATION:Stamford Museum & Nature Center\, 39 Scofieldtown Rd\, Stamford\, CT\, United States
CATEGORIES:FIY,Programs & Events
ATTACH;FMTTYPE=image/jpeg:https://ctarttrail.org/wp-content/uploads/2025/03/petunia-7VDvTt.tmp_.jpg
GEO:41.123632;-73.545409
X-APPLE-STRUCTURED-LOCATION;VALUE=URI;X-ADDRESS=Stamford Museum & Nature Center 39 Scofieldtown Rd Stamford CT United States;X-APPLE-RADIUS=500;X-TITLE=39 Scofieldtown Rd:geo:-73.545409,41.123632
END:VEVENT
END:VCALENDAR