BEGIN:VCALENDAR
VERSION:2.0
PRODID:-//Connecticut Art Trail - ECPv6.15.20//NONSGML v1.0//EN
CALSCALE:GREGORIAN
METHOD:PUBLISH
X-WR-CALNAME:Connecticut Art Trail
X-ORIGINAL-URL:https://ctarttrail.org
X-WR-CALDESC:Events for Connecticut Art Trail
REFRESH-INTERVAL;VALUE=DURATION:PT1H
X-Robots-Tag:noindex
X-PUBLISHED-TTL:PT1H
BEGIN:VTIMEZONE
TZID:America/New_York
BEGIN:DAYLIGHT
TZOFFSETFROM:-0500
TZOFFSETTO:-0400
TZNAME:EDT
DTSTART:20220313T070000
END:DAYLIGHT
BEGIN:STANDARD
TZOFFSETFROM:-0400
TZOFFSETTO:-0500
TZNAME:EST
DTSTART:20221106T060000
END:STANDARD
BEGIN:DAYLIGHT
TZOFFSETFROM:-0500
TZOFFSETTO:-0400
TZNAME:EDT
DTSTART:20230312T070000
END:DAYLIGHT
BEGIN:STANDARD
TZOFFSETFROM:-0400
TZOFFSETTO:-0500
TZNAME:EST
DTSTART:20231105T060000
END:STANDARD
BEGIN:DAYLIGHT
TZOFFSETFROM:-0500
TZOFFSETTO:-0400
TZNAME:EDT
DTSTART:20240310T070000
END:DAYLIGHT
BEGIN:STANDARD
TZOFFSETFROM:-0400
TZOFFSETTO:-0500
TZNAME:EST
DTSTART:20241103T060000
END:STANDARD
END:VTIMEZONE
BEGIN:VEVENT
DTSTART;TZID=America/New_York:20231004T154500
DTEND;TZID=America/New_York:20231004T170000
DTSTAMP:20260421T062917
CREATED:20230710T164249Z
LAST-MODIFIED:20230908T174147Z
UID:400-1696434300-1696438800@ctarttrail.org
SUMMARY:Wild Woods Adventure After School4 weeksWednesdays\, September 13 – October 43:45 – 5 pmAges 5 – 9
DESCRIPTION:This popular After-School program is back! Explore the forest like never before as we search for salamanders and snakes\, build a shelter\, learn how to make fire\, and more! We’ll explore our Poorhouse Brook\, learn some basics of wild edibles\, dig in the dirt\, try out our Orange Adventure Trail\, and discover our engineering skills as we make brush piles for wildlife. We’ll challenge our outdoor adventure skills in a safe and fun setting while exploring our very own wild woods! Limited to 12 children for a great small group experience\, so register early.\nMembers: $60/participant\nNon-Members: $72/participant\nAges 5 – 9\nWednesdays\, September 13 – October 4\n4 Weeks\n3:45 – 5 pm\nREGISTER ON OR AFTER AUG 2
URL:https://ctarttrail.org/event/wild-woods-adventure-after-school4-weekswednesdays-september-13-october-4345-5-pmages-5-9/
LOCATION:Stamford Museum & Nature Center\, 39 Scofieldtown Road\, Stamford\, CT\, 06903\, United States
CATEGORIES:After School,Programs & Events
ATTACH;FMTTYPE=image/jpeg:https://ctarttrail.org/wp-content/uploads/2023/07/woodskidssmall-AeYHlt.tmp_.jpg
END:VEVENT
END:VCALENDAR